BEGIN:VCALENDAR
VERSION:2.0
PRODID:-//hacksw/handcal//NONSGML v1.0//EN
BEGIN:VEVENT
SUMMARY:Sortie du 12 avril sur un circuit du prochain Rallye du CassC
UID:5b267065-866c-48d4-a8e7-58507228288e
DTSTART:20260411T220000Z
DTEND:20260412T220000Z
LOCATION:Localisation   
CATEGORIES:Sportif
STATUS:
URL;VALUE=URI:https://www.cassc.fr/evenements/2026/04/12/sortie-du-12-avril-sur-un-circuit-du-prochain-rallye-du-cassc-2440272
END:VEVENT
END:VCALENDAR
