BEGIN:VCALENDAR
VERSION:2.0
PRODID:-//hacksw/handcal//NONSGML v1.0//EN
BEGIN:VEVENT
SUMMARY:Sortie dans la Dombes par la montee de Neyron le 20 avril 2026
UID:1ed4eff0-d707-4f11-bc85-d0a7763efb8f
DTSTART:20260420T220000Z
DTEND:20260421T220000Z
LOCATION:Localisation   
CATEGORIES:Sportif
STATUS:
URL;VALUE=URI:https://www.cassc.fr/evenements/2026/04/21/sortie-dans-la-dombes-par-la-montee-de-neyron-le-20-avril-2026-2443620
END:VEVENT
END:VCALENDAR
