BEGIN:VCALENDAR
VERSION:2.0
PRODID:-//hacksw/handcal//NONSGML v1.0//EN
BEGIN:VEVENT
SUMMARY:Sortie longue La Bresse
UID:93c208c3-4d83-46c5-a239-53ae0f5de2b1
DTSTART:20260422T220000Z
DTEND:20260423T220000Z
LOCATION:Localisation   
CATEGORIES:Sportif
STATUS:
DESCRIPTION:<p>Au depart de Saint Paul de Varax</p>
 
 <p><a
 href="http://23830548" target="_blank" rel="noreferrer
 noopener"> open runner </a><a
 href="https://www.openrunner.com/route-details/23830548"
 target="_blank" rel="noreferrer noopener">23830548</a></p>
 
 <p>RV au
 club (pour covoiturage) 8h30</p>
 
 <p>depart  de Saint Paul de Varax
 a 9h30</p>
 
 <p>Marcel R</p>
URL;VALUE=URI:https://www.cassc.fr/evenements/2026/04/23/sortie-longue-la-bresse-2426330
END:VEVENT
END:VCALENDAR
