BEGIN:VCALENDAR
VERSION:2.0
PRODID:-//hacksw/handcal//NONSGML v1.0//EN
BEGIN:VEVENT
SUMMARY:LES TROIS COLS
UID:e9177c24-4720-418c-bb0d-2219d63e4c07
DTSTART:20260513T220000Z
DTEND:20260514T220000Z
LOCATION:Localisation   
CATEGORIES:Sportif
STATUS:
DESCRIPTION:<div class="elementor-element elementor-element-9b5ffef
 elementor-widget elementor-widget-heading animated fadeIn">
 <div
 class="elementor-widget-container">
 <h1
 class="elementor-heading-title elementor-size-default">Les Trois Cols
 Materiel-velo.com</h1>
 </div>
 </div>
 
 <div class="elementor-element
 elementor-element-8757f8f elementor-widget elementor-widget-heading
 animated fadeIn">
 <div class="elementor-widget-container">
 <h2
 class="elementor-heading-title elementor-size-default"><a
 href="https://taccyclo.fr/" target="_blank" rel="noreferrer
 noopener">cyclosportives et randonnees organisees par le TAC
 Cyclo</a></h2>
 </div>
 </div>
 
 <div class="elementor-element
 elementor-element-683c76e elementor-headline--style-highlight
 elementor-widget elementor-widget-animated-headline">
 <div
 class="elementor-widget-container">
 <h3 class="elementor-headline
 e-animated"><span class="elementor-headline-dynamic-wrapper
 elementor-headline-text-wrapper"><span
 class="elementor-headline-dynamic-text
 elementor-headline-text-active">Jeudi 14 Mai 2026</span>
 </span></h3>
 </div>
 </div>
 
 <div class="elementor-element
 elementor-element-aa32b27 elementor-align-left elementor-widget
 elementor-widget-button">
 <div
 class="elementor-widget-container">
 <div
 class="elementor-button-wrapper"><a class="elementor-button
 elementor-button-link elementor-size-sm"
 href="https://3cols.fr/3-cols/inscriptions/" target="_blank"
 rel="noreferrer noopener"><span
 class="elementor-button-content-wrapper"><strong><span
 style="font-size:20px;"><span class="elementor-button-text">INFOS
 CLIQUEZ ICI</span></span></strong> </span></a></div>
 </div>
 </div>
URL;VALUE=URI:https://www.cassc.fr/evenements/2026/05/14/les-trois-cols-2421039
END:VEVENT
END:VCALENDAR
