BEGIN:VCALENDAR
VERSION:2.0
PRODID:-//hacksw/handcal//NONSGML v1.0//EN
BEGIN:VEVENT
SUMMARY:Sortie longue "Camembert" col de Fay
UID:153f7591-ab34-46f6-b123-714928174105
DTSTART:20260520T220000Z
DTEND:20260521T220000Z
LOCATION:Localisation   
CATEGORIES:Sportif
STATUS:
DESCRIPTION:<p>Sortie longue au depart du club en direction du col de
 Fay avec restau a Lagnieu</p>
 
 <p>Organisation Jesus</p>
URL;VALUE=URI:https://www.cassc.fr/evenements/2026/05/21/sortie-longue-camembert-col-de-fay-2433758
END:VEVENT
END:VCALENDAR
