BEGIN:VCALENDAR
VERSION:2.0
PRODID:-//hacksw/handcal//NONSGML v1.0//EN
BEGIN:VEVENT
SUMMARY:Rallye de Tournon sur Rhone
UID:d46d372b-539b-4e86-8b1b-37b5eb0a463b
DTSTART:20260529T220000Z
DTEND:20260530T220000Z
LOCATION:Localisation   
CATEGORIES:Sportif
STATUS:
DESCRIPTION:<p>Randonnee des gorges du Doux</p>
 
 <p><a
 href="http://www.friolclub.fr/?page_id=141" target="_blank"
 rel="noreferrer noopener">Infos cliquez ICI</a></p>
URL;VALUE=URI:https://www.cassc.fr/evenements/2026/05/30/rallye-de-tournon-sur-rhone-2433819
END:VEVENT
END:VCALENDAR
