BEGIN:VCALENDAR
VERSION:2.0
PRODID:-//hacksw/handcal//NONSGML v1.0//EN
BEGIN:VEVENT
SUMMARY:Rallye Dombe Cotiere
UID:d7138e38-e8fa-4570-b623-06b748b6b18c
DTSTART:20260529T220000Z
DTEND:20260530T220000Z
LOCATION:Localisation   
CATEGORIES:Sportif
STATUS:
DESCRIPTION:<p><br>
 le <b><span style="color:#fd7e28;">R</span>acing
 <span style="color:#fd7e28;">C</span>lub <span
 style="color:#01afda;">M</span>ontluel <span
 style="color:#fd7e28;">C</span>yclo</b> est heureux de vous inviter a
 sa traditionnelle randonnee "La Dombes Cotiere", qui se tiendra le
 <b><span style="color:#fd7e28;">samedi 30 mai 2026</span></b>, pour
 sa 11eme edition.<br>
 <a href="http://rcmcyclo.free.fr/?page_id=299"
 target="_blank" rel="noreferrer noopener">Infos CLIQUEZ ICI</a></p>
URL;VALUE=URI:https://www.cassc.fr/evenements/2026/05/30/rallye-dombe-cotiere-2437903
END:VEVENT
END:VCALENDAR
