BEGIN:VCALENDAR
VERSION:2.0
PRODID:-//hacksw/handcal//NONSGML v1.0//EN
BEGIN:VEVENT
SUMMARY:Brevet de Randonneur de l'Oisans
UID:4450fd0f-9c9e-41db-ab61-426fb80192f1
DTSTART:20260613T220000Z
DTEND:20260614T220000Z
LOCATION:Localisation   
CATEGORIES:Sportif
STATUS:
DESCRIPTION:<p><a
 href="https://cyclotouristes-grenoblois.assoconnect.com/page/3755016-bro-brevet-de-randonneur-de-l-oisans-2026"
 target="_blank" rel="noreferrer noopener">Infos CLIQUEZ
 ICI</a></p>
 
 <p><span style="color:#9c000b;"><span
 style="font-size:16px;"><strong><em>Route : Accueil et inscriptions
 possibles sur place a partir de
 6h00</em></strong></span></span></p>
 
 <p><span
 style="color:#9c000b;"><span
 style="font-size:16px;"><strong><em>Depart entre 6h30' et
 9h</em></strong></span></span></p>
 
 <p><span
 style="color:#9c000b;"><span
 style="font-size:16px;"><strong><em>Salle polyvalente plan Barbier La
 fonderie</em></strong></span></span></p>
 
 <p><span
 style="color:#9c000b;"><span
 style="font-size:16px;"><strong><em>38114
 ALLEMOND </em></strong></span></span></p>
 
 <p><span
 style="color:#ffffff;"><span style="font-size:16px;">Departs entre
 6h30 et 9h30</span></span></p>
 
 <p><span style="color:#ffffff;"><span
 style="font-size:16px;">      Salle polyvalente<br>
       Plan
 Barbier</span><br>
 <span style="font-size:16px;">      La
 Fonderie</span><br>
 <span style="font-size:16px;"><strong>     
 38114 ALLEMOND</strong></span></span></p>
 
 <p><span
 style="color:#ffffff;"><span style="font-size:16px;">     
 Latitude - Longitude<br>
       DD : 45°07’41.8″N –
 6°02’27.8″E<br>
       DMS : 45.12827 –
 6.041056</span></span></p>
 
 <p><span style="color:#ffffff;"><span
 style="font-size:16px;">Departs entre 6h30 et
 9h30</span></span></p>
 
 <p><span style="color:#ffffff;"><span
 style="font-size:16px;">      Salle polyvalente<br>
       Plan
 Barbier</span><br>
 <span style="font-size:16px;">      La
 Fonderie</span><br>
 <span style="font-size:16px;"><strong>     
 38114 ALLEMOND</strong></span></span></p>
 
 <p><span
 style="color:#ffffff;"><span style="font-size:16px;">     
 Latitude - Longitude<br>
       DD : 45°07’41.8″N –
 6°02’27.8″E<br>
       DMS : 45.12827 –
 6.041056</span></span></p>
 
 <p><span style="color:#ffffff;"><span
 style="font-size:16px;">Departs entre 6h30 et
 9h30</span></span></p>
 
 <p><span style="color:#ffffff;"><span
 style="font-size:16px;">      Salle polyvalente<br>
       Plan
 Barbier</span><br>
 <span style="font-size:16px;">      La
 Fonderie</span><br>
 <span style="font-size:16px;"><strong>     
 38114 ALLEMOND</strong></span></span></p>
 
 <p><span
 style="color:#ffffff;"><span style="font-size:16px;">     
 Latitude - Longitude<br>
       DD : 45°07’41.8″N –
 6°02’27.8″E<br>
       DMS : 45.12827 –
 6.041056</span></span></p>
 
 <p> </p>
 
 <p><span
 style="color:#ffffff;"><span style="font-size:16px;">Departs entre
 6h30 et 9h30</span></span></p>
 
 <p><span style="color:#ffffff;"><span
 style="font-size:16px;">      Salle polyvalente<br>
       Plan
 Barbier</span><br>
 <span style="font-size:16px;">      La
 Fonderie</span><br>
 <span style="font-size:16px;"><strong>     
 38114 ALLEMOND</strong></span></span></p>
 
 <p><span
 style="color:#ffffff;"><span style="font-size:16px;">     
 Latitude - Longitude<br>
       DD : 45°07’41.8″N –
 6°02’27.8″E<br>
       DMS : 45.12827 –
 6.041056</span></span></p>
 
 <p><span style="color:#ffffff;"><span
 style="font-size:16px;">      Departs entre 6h30 et
 9h30</span></span></p>
 
 <p><span style="color:#ffffff;"><span
 style="font-size:16px;">      Salle polyvalente<br>
       Plan
 Barbier</span><br>
 <span style="font-size:16px;">      La
 Fonderie</span><br>
 <span style="font-size:16px;"><strong>     
 38114 ALLEMOND</strong></span></span></p>
 
 <p><span
 style="color:#ffffff;"><span style="font-size:16px;">     
 Latitude - Longitude<br>
       DD : 45°07’41.8″N –
 6°02’27.8″E<br>
       DMS : 45.12827 –
 6.041056</span></span></p>
URL;VALUE=URI:https://www.cassc.fr/evenements/2026/06/14/brevet-de-randonneur-de-loisans-2438009
END:VEVENT
END:VCALENDAR
