BEGIN:VCALENDAR
VERSION:2.0
PRODID:-//hacksw/handcal//NONSGML v1.0//EN
BEGIN:VEVENT
SUMMARY:Sortie longue VERCORS
UID:aaeb5792-a657-48a1-89cc-2cd65ac01fa1
DTSTART:20260708T220000Z
DTEND:20260709T220000Z
LOCATION:Localisation   
CATEGORIES:Sportif
STATUS:
DESCRIPTION:<p>Au depart de Lans en Vercors</p>
 
 <p>St Marcel, col st
 Agnan, la Chapelle, Gorges de la Bourne...</p>
 
 <p><a
 href="https://www.openrunner.com/route-details/21140970"
 target="_blank" rel="noreferrer noopener">Open Runner
 21140970</a></p>
 
 <p>83 km d+ 1521</p>
 
 <p>Laurent et Patrick P</p>
URL;VALUE=URI:https://www.cassc.fr/evenements/2026/07/09/sortie-longue-vercors-2433933
END:VEVENT
END:VCALENDAR
