BEGIN:VCALENDAR
VERSION:2.0
PRODID:-//hacksw/handcal//NONSGML v1.0//EN
BEGIN:VEVENT
SUMMARY:Sortie longue Haute Loire
UID:c90ddfe6-4a4b-4782-b612-398c42573e1c
DTSTART:20260715T220000Z
DTEND:20260716T220000Z
LOCATION:Localisation   
CATEGORIES:Sportif
STATUS:
DESCRIPTION:<p>Precisions a venir</p>
 
 <p>Jacques</p>
URL;VALUE=URI:https://www.cassc.fr/evenements/2026/07/16/sortie-longue-haute-loire-2433942
END:VEVENT
END:VCALENDAR
