BEGIN:VCALENDAR
VERSION:2.0
PRODID:-//hacksw/handcal//NONSGML v1.0//EN
BEGIN:VEVENT
SUMMARY:Sortie longue
UID:c10314dc-f2e6-4701-bce7-eb8a7f1f71fc
DTSTART:20260722T220000Z
DTEND:20260723T220000Z
LOCATION:Localisation   
CATEGORIES:Sportif
STATUS:
DESCRIPTION:<p>Precision a venir</p>
 
 <p>Pascal R</p>
URL;VALUE=URI:https://www.cassc.fr/evenements/2026/07/23/sortie-longue-2433944
END:VEVENT
END:VCALENDAR
