BEGIN:VCALENDAR
VERSION:2.0
PRODID:-//hacksw/handcal//NONSGML v1.0//EN
BEGIN:VEVENT
SUMMARY:Sortie longue Gorges de l'AIN
UID:8edad47d-376b-41db-b2a3-fb86709b7e98
DTSTART:20260819T220000Z
DTEND:20260820T220000Z
LOCATION:Localisation   
CATEGORIES:Sportif
STATUS:
DESCRIPTION:<div id="informations_evenement">
 <div
 class="container-fluid px-0">
 <div class="row">
 <div
 class="col-12">
 <h2>Sortie pas bien longue et pas bien dure
 <strong>accessible a toutes et tous</strong> de 90 km pour 800 m de
 d+</h2>
 </div>
 </div>
 </div>
 </div>
 
 <div class="container-fluid
 px-0">
 <div class="row">
 <div class="col-12">
 <p>RDV au club a 8h ou
 a 9h sur place au cimetiere de Poncin rue de la Verchere</p>
 
 <p>Nous
 remonterons le cours de l'ain par la rive droite jusqu'a Chancia en
 passant par le viaduc de Cize-Bolozon puis Thoirette</p>
 
 <p><a
 href="https://www.commune-chancia.net/" target="_blank"
 rel="noreferrer noopener">Pause au bord du lac de
 Coiselet-Chancia </a>avec le petit bar restaurant qui va bien au
 bord de la plage, pensez aux maillot de bain;)</p>
 
 <p><a
 href="https://www.openrunner.com/route-details/2937955"
 target="_blank" rel="noreferrer noopener">Openrunner
 2937955</a></p>
 </div>
 </div>
 </div>
URL;VALUE=URI:https://www.cassc.fr/evenements/2026/08/20/sortie-longue-gorges-de-lain-2433945
END:VEVENT
END:VCALENDAR
