BEGIN:VCALENDAR
VERSION:2.0
PRODID:-//hacksw/handcal//NONSGML v1.0//EN
BEGIN:VEVENT
SUMMARY:Sortie longue
UID:1329ce02-cd6e-468b-b069-d350e7a4b1c0
DTSTART:20260902T220000Z
DTEND:20260903T220000Z
LOCATION:Localisation   
CATEGORIES:Sportif
STATUS:
DESCRIPTION:<p>Precisions a venir</p>
URL;VALUE=URI:https://www.cassc.fr/evenements/2026/09/03/sortie-longue-2434165
END:VEVENT
END:VCALENDAR
