BEGIN:VCALENDAR
VERSION:2.0
PRODID:-//hacksw/handcal//NONSGML v1.0//EN
BEGIN:VEVENT
SUMMARY:Sortie longue Vinzelles Bourgogne
UID:6d27ad6a-296a-4b69-81ff-67bf05cfcfbd
DTSTART:20260909T220000Z
DTEND:20260910T220000Z
LOCATION:Localisation   
CATEGORIES:Sportif
STATUS:
DESCRIPTION:<p>Sortie longue en Bourgogne au depart de
 Vinzelles</p>
 
 <p>BPF de Brancion et Pouilly Solutre</p>
 
 <p>Patrick
 G</p>
URL;VALUE=URI:https://www.cassc.fr/evenements/2026/09/10/sortie-longue-vinzelles-bourgogne-2434191
END:VEVENT
END:VCALENDAR
