BEGIN:VCALENDAR
VERSION:2.0
PRODID:-//hacksw/handcal//NONSGML v1.0//EN
BEGIN:VEVENT
SUMMARY:Interclub Velocio a Sathonnay
UID:36b71d29-2757-435c-83da-17e7608049ce
DTSTART:20260912T220000Z
DTEND:20260913T220000Z
LOCATION:Localisation   
CATEGORIES:Sportif
STATUS:
URL;VALUE=URI:https://www.cassc.fr/evenements/2026/09/13/interclub-velocio-a-sathonnay-2434207
END:VEVENT
END:VCALENDAR
