BEGIN:VCALENDAR
VERSION:2.0
PRODID:-//hacksw/handcal//NONSGML v1.0//EN
BEGIN:VEVENT
SUMMARY:Sortie longue
UID:aef68233-739d-4968-b698-426f2f45a15d
DTSTART:20260916T220000Z
DTEND:20260917T220000Z
LOCATION:Localisation   
CATEGORIES:Sportif
STATUS:
URL;VALUE=URI:https://www.cassc.fr/evenements/2026/09/17/sortie-longue-2434208
END:VEVENT
END:VCALENDAR
