BEGIN:VCALENDAR
VERSION:2.0
PRODID:-//hacksw/handcal//NONSGML v1.0//EN
BEGIN:VEVENT
SUMMARY:Rallye de Jonage
UID:c208ca24-9c7d-4009-a9e1-41e319cdd138
DTSTART:20260918T220000Z
DTEND:20260919T220000Z
LOCATION:Localisation   
CATEGORIES:Sportif
STATUS:
DESCRIPTION:<p>Rallye de Jonage</p>
 
 <p><span
 style="font-size:20px;"><strong><a
 href="https://www.esjcyclo.info/next/rallye/" target="_blank"
 rel="noreferrer noopener"><span style="color:#e74c3c;">Infos cliquez
 ICI</span></a></strong></span></p>
 
 <p>4 Parcours route Gpx &
 Flechage complet<br>
 => 48km/150m => <a
 href="https://www.openrunner.com/route-details/18805631"
 target="_blank" rel="noreferrer
 noopener">https://www.openrunner.com/route-details/18805631</a><br>
 =>
 76km/560m => <a
 href="https://www.openrunner.com/route-details/18805576"
 target="_blank" rel="noreferrer
 noopener">https://www.openrunner.com/route-details/18805576</a><br>
 =>
 106km/600m => <a
 href="https://www.openrunner.com/route-details/18805813"
 target="_blank" rel="noreferrer
 noopener">https://www.openrunner.com/route-details/18805813</a><br>
 =>
 131km/1100m => <a
 href="https://www.openrunner.com/route-details/18805868"
 target="_blank" rel="noreferrer
 noopener">https://www.openrunner.com/route-details/18805868</a><br>
 <br>
 +
 1 Grand Parcours sur la base du 131km avec 2 boucles non flechees
 « GPS obligatoire »<br>
 => 150km/1500m => <a
 href="https://www.openrunner.com/route-details/22957924"
 target="_blank" rel="noreferrer
 noopener">https://www.openrunner.com/route-details/22957924</a><br>
 1ere
 boucle des le Pont de JONS qui rejoint le 131 apres FARAMANS en
 passant par la cotiere<br>
 2eme boucle a CHATILLON la PALUD</p>
 
 <p>1
 Parcours Gravel/Vtt Gpx sans flechage « GPS Obligatoire »<br>
 =>
 55km/360m => <a
 href="https://www.openrunner.com/route-details/18812039"
 target="_blank" rel="noreferrer
 noopener">https://www.openrunner.com/route-details/18812039</a></p>
 
 <p> </p>
URL;VALUE=URI:https://www.cassc.fr/evenements/2026/09/19/rallye-de-jonage-2434210
END:VEVENT
END:VCALENDAR
