BEGIN:VCALENDAR
VERSION:2.0
PRODID:-//hacksw/handcal//NONSGML v1.0//EN
BEGIN:VEVENT
SUMMARY:Sortie longue
UID:7caa01c2-0ca7-4192-b6fa-81bc7b3de5b4
DTSTART:20260930T220000Z
DTEND:20261001T220000Z
LOCATION:Localisation   
CATEGORIES:Sportif
STATUS:
DESCRIPTION:<p>Precisions a venir</p>
URL;VALUE=URI:https://www.cassc.fr/evenements/2026/10/01/sortie-longue-2434232
END:VEVENT
END:VCALENDAR
