BEGIN:VCALENDAR
VERSION:2.0
PRODID:-//hacksw/handcal//NONSGML v1.0//EN
BEGIN:VEVENT
SUMMARY:Sortie longue
UID:0d840724-b9f2-4fd3-9578-d2a23e6cb686
DTSTART:20261007T220000Z
DTEND:20261008T220000Z
LOCATION:Localisation   
CATEGORIES:Sportif
STATUS:
DESCRIPTION:<p>Precisions a venir</p>
URL;VALUE=URI:https://www.cassc.fr/evenements/2026/10/08/sortie-longue-2434233
END:VEVENT
END:VCALENDAR
